BEGIN:VCALENDAR
VERSION:2.0
PRODID:-//wp-events-plugin.com//7.2.3.1//EN
TZID:Europe/London
X-WR-TIMEZONE:Europe/London
BEGIN:VEVENT
UID:14@mhps.org.uk
DTSTART;TZID=Europe/London:20251108T190000
DTEND;TZID=Europe/London:20251108T210000
DTSTAMP:20251024T071348Z
URL:https://www.mhps.org.uk/events/supper-quiz-2025/
SUMMARY:Supper Quiz
DESCRIPTION:Please choose a vegetarian or non-vegetarian meal when booking 
 each ticket.\n\nTables of 8. Please let us know when booking if you are sh
 aring tables with friends (add names in the “Additional information” b
 ox when placing your order) Or we are happy to help make up tables with sm
 aller groups or singles (again\, let us know in the “Additional informat
 ion” box when placing your order). You can also email us using contact@m
 hps.co.uk.\n\nPlease BRING YOUR OWN DRINKS. We will provide glasses.\n\nAr
 rive at 7pm for a 7.30pm start\n\nBuy Tickets (£16) (SOLD OUT)
ATTACH;FMTTYPE=image/jpeg:https://www.mhps.org.uk/wp-content/uploads/2023/
 06/AdobeStock_117495912.jpeg
LOCATION:St Paul's Church\, The Ridgeway\, Mill Hill\, London NW7 1QU\, Uni
 ted Kingdom\, United Kingdom
GEO:51.617977;-0.225609
X-APPLE-STRUCTURED-LOCATION;VALUE=URI;X-ADDRESS=The Ridgeway\, Mill Hill\, 
 London NW7 1QU\, United Kingdom\, United Kingdom;X-APPLE-RADIUS=100;X-TITL
 E=St Paul's Church:geo:51.617977,-0.225609
END:VEVENT
BEGIN:VTIMEZONE
TZID:Europe/London
X-LIC-LOCATION:Europe/London
BEGIN:STANDARD
DTSTART:20251026T010000
TZOFFSETFROM:+0100
TZOFFSETTO:+0000
TZNAME:GMT
END:STANDARD
END:VTIMEZONE
END:VCALENDAR