BEGIN:VCALENDAR
VERSION:2.0
PRODID:-//wp-events-plugin.com//7.2.3.1//EN
TZID:Europe/London
X-WR-TIMEZONE:Europe/London
BEGIN:VEVENT
UID:9@mhps.org.uk
DTSTART;TZID=Europe/London:20241109T193000
DTEND;TZID=Europe/London:20241109T220000
DTSTAMP:20240927T102514Z
URL:https://www.mhps.org.uk/events/supper-quiz-2/
SUMMARY:Supper Quiz
DESCRIPTION:Click on "More Info" for details.
ATTACH;FMTTYPE=image/jpeg:https://www.mhps.org.uk/wp-content/uploads/2024/
 03/pub_quiz.jpg
LOCATION:St Paul's Church\, The Ridgeway\, Mill Hill\, London NW7 1QU\, Uni
 ted Kingdom\, United Kingdom
GEO:51.617977;-0.225609
X-APPLE-STRUCTURED-LOCATION;VALUE=URI;X-ADDRESS=The Ridgeway\, Mill Hill\, 
 London NW7 1QU\, United Kingdom\, United Kingdom;X-APPLE-RADIUS=100;X-TITL
 E=St Paul's Church:geo:51.617977,-0.225609
END:VEVENT
BEGIN:VTIMEZONE
TZID:Europe/London
X-LIC-LOCATION:Europe/London
BEGIN:STANDARD
DTSTART:20241027T010000
TZOFFSETFROM:+0100
TZOFFSETTO:+0000
TZNAME:GMT
END:STANDARD
END:VTIMEZONE
END:VCALENDAR