BEGIN:VCALENDAR
VERSION:2.0
PRODID:-//wp-events-plugin.com//7.2.3.1//EN
TZID:Europe/London
X-WR-TIMEZONE:Europe/London
BEGIN:VEVENT
UID:21@mhps.org.uk
DTSTART;TZID=Europe/London:20260628T143000
DTEND;TZID=Europe/London:20260628T153000
DTSTAMP:20260319T155448Z
URL:https://www.mhps.org.uk/events/gardeners-question-time/
SUMMARY:Gardeners’ Question Time
DESCRIPTION:Join us for Gardeners’ Question Time on Sunday 28th June at 2
 .30 pm at The Mill Hill Bowling Club\, Mill Hill Park.\n\nClick here to pu
 rchase your ticket.\n\nTickets are £5.00 each and include a cream tea. We
  look forward to welcoming members for an enjoyable afternoon.
ATTACH;FMTTYPE=image/jpeg:https://www.mhps.org.uk/wp-content/uploads/2023/
 04/AdobeStock_477243895.jpeg
LOCATION:The Mill Hill Bowling Club\, Mill Hill Park\, Wise Ln\, London\, N
 W7 2BD\, United Kingdom
GEO:51.615714;-0.23922
X-APPLE-STRUCTURED-LOCATION;VALUE=URI;X-ADDRESS=Mill Hill Park\, Wise Ln\, 
 London\, NW7 2BD\, United Kingdom;X-APPLE-RADIUS=100;X-TITLE=The Mill Hill
  Bowling Club:geo:51.615714,-0.23922
END:VEVENT
BEGIN:VTIMEZONE
TZID:Europe/London
X-LIC-LOCATION:Europe/London
BEGIN:DAYLIGHT
DTSTART:20260329T020000
TZOFFSETFROM:+0000
TZOFFSETTO:+0100
TZNAME:BST
END:DAYLIGHT
END:VTIMEZONE
END:VCALENDAR