BEGIN:VCALENDAR
VERSION:2.0
PRODID:-//wp-events-plugin.com//7.2.3.1//EN
TZID:Europe/London
X-WR-TIMEZONE:Europe/London
BEGIN:VEVENT
UID:18@mhps.org.uk
DTSTART;TZID=Europe/London:20261011T113000
DTEND;TZID=Europe/London:20261011T133000
DTSTAMP:20251021T153905Z
URL:https://www.mhps.org.uk/events/autumn-footpath-walk-3/
SUMMARY:Autumn Footpath Walk
DESCRIPTION:Route and meeting place tbc
END:VEVENT
BEGIN:VTIMEZONE
TZID:Europe/London
X-LIC-LOCATION:Europe/London
BEGIN:DAYLIGHT
DTSTART:20260329T020000
TZOFFSETFROM:+0000
TZOFFSETTO:+0100
TZNAME:BST
END:DAYLIGHT
END:VTIMEZONE
END:VCALENDAR